BEGIN:VCALENDAR
VERSION:2.0
PRODID:-//eventon.com NONSGML v1.0//EN
CALSCALE:GREGORIAN
METHOD:PUBLISH
BEGIN:VEVENT
UID:69ea0a74438bf
DTSTAMP:20260423T120300Z
DTSTART:20250427T160000Z
DTEND:20250616T035900Z
LOCATION:Hall des Sports Paul Chonchon Avenue Martin Luther King
SUMMARY:Registrations - Basketball Summer Camp 2025 (Guadeloupe\,  Caribbean Island)
DESCRIPTION:2TheTop Academy camps are open to boys and girls\,  from 11 to 
 17yo. Sessions are conducted in English. Our camps cover Basketball fundame
 ntals (offense-defense)\,  game strategy\,  physical conditioning\,  teamwo
 rk\,  mental strength\,  self-confidence\,  and the week ends on Saturday w
 ith contests and gala games featuring the camp&#8217;s best players. Get re
 ady[..]\nhttps://2thetopacademy.com/events/registrations-basketball-summer-
 camp-2025-guadeloupe-caribbean-island/
URL:https://2thetopacademy.com/events/registrations-basketball-summer-camp-2025-guadeloupe-caribbean-island/
END:VEVENT
END:VCALENDAR